BEGIN:VCALENDAR
VERSION:2.0
CALSCALE:GREGORIAN
PRODID:-//Diputació de Barcelona//DibaCMS//EN
BEGIN:VEVENT
UID:4978
DTSTAMP:20260422T092648
DTSTART:20120423T000000
DTEND:20130423T000000
SUMMARY:La plaça d'Antoni Baqué acull les activitats de la Diada de Sant Jordi a la Llagosta
LOCATION:
METHOD:PUBLISH
X-WR-CALNAME:llagosta@llagosta.cat
X-WR-TIMEZONE:Europe/Madrid
DESCRIPTION:Avui, la Llagosta celebra la Diada de Sant Jordi. Com arreu, els llibres i les roses han tornat a sortir als carrers de la nostra localitat. La plaça d'Antoni Baqué s'ha convertit novament en el centre de les activitats que s'organitzen.
URI:https://www.llagosta.cat/actualitat/noticies/la-placa-dantoni-baque-acull-les-activitats-de-la-diada-de-sant-jordi-a-la-llagosta.html
CLASS:PUBLIC
END:VEVENT
END:VCALENDAR
