BEGIN:VCALENDAR
VERSION:2.0
CALSCALE:GREGORIAN
PRODID:-//Diputació de Barcelona//DibaCMS//EN
BEGIN:VEVENT
UID:4977
DTSTAMP:20260423T001532
DTSTART:20120423T000000
DTEND:20130423T000000
SUMMARY:El Viejas Glorias perd a Montmeló (1-0) i trenca la seva ratxa de quatre victòries seguides
LOCATION:
METHOD:PUBLISH
X-WR-CALNAME:llagosta@llagosta.cat
X-WR-TIMEZONE:Europe/Madrid
DESCRIPTION:El Club Deportivo Viejas Glorias va perdre dissabte per 1 a 0 al camp del Montmeló i va veure com es trencava la seva ratxa de quatre victòries seguides. Els llagostencs van afrontar el partit amb moltes baixes. Fins i tot, un jugador de camp va haver de fer de porter, encara que va tenir una actuació molt destacada.
URI:https://www.llagosta.cat/actualitat/noticies/el-viejas-glorias-perd-a-montmelo-1-0-i-trenca-la-seva-ratxa-de-quatre-victories-seguides.html
CLASS:PUBLIC
END:VEVENT
END:VCALENDAR
