BEGIN:VCALENDAR
VERSION:2.0
CALSCALE:GREGORIAN
PRODID:-//Diputació de Barcelona//DibaCMS//EN
BEGIN:VEVENT
UID:4976
DTSTAMP:20260422T215546
DTSTART:20120423T000000
DTEND:20130423T000000
SUMMARY:Una xerrada va posar el punt final als actes del 81è aniversari de la Segona República
LOCATION:
METHOD:PUBLISH
X-WR-CALNAME:llagosta@llagosta.cat
X-WR-TIMEZONE:Europe/Madrid
DESCRIPTION:Divendres, van finalitzar els actes commemoratius del 81è aniversari de la proclamació de la Segona República. Una xerrada–debat va servir per tancar el programa preparat per Iniciativa per Catalunya Verds, Esquerra Unida i Alternativa i el Casal Popular la República de la Llagosta.
URI:https://www.llagosta.cat/actualitat/noticies/una-xerrada-va-posar-el-punt-final-als-actes-del-81e-aniversari-de-la-segona-republica.html
CLASS:PUBLIC
END:VEVENT
END:VCALENDAR
