BEGIN:VCALENDAR
VERSION:2.0
CALSCALE:GREGORIAN
PRODID:-//Diputació de Barcelona//DibaCMS//EN
BEGIN:VEVENT
UID:4975
DTSTAMP:20260423T072232
DTSTART:20120423T000000
DTEND:20130423T000000
SUMMARY:Balanç molt positiu de la Ballada anual de gitanes de la Llagosta, celebrada ahir
LOCATION:
METHOD:PUBLISH
X-WR-CALNAME:llagosta@llagosta.cat
X-WR-TIMEZONE:Europe/Madrid
DESCRIPTION:El Grup de Ball de Gitanes de la Llagosta ha fet un balanç molt positiu de la 36a edició de la Ballada de Gitanes de la nostra localitat, que va tenir lloc ahir a la rambla de l'avinguda de l'Onze de setembre. Durant la jornada, van actuar grups de ball de gitanes de Cerdanyola, Martorelles, Llinars del Vallès, Polinyà i la Llagosta, acompanyats per la formació musical de l'Esbart Sant Marçal de Cerdanyola.
URI:https://www.llagosta.cat/actualitat/noticies/balanc-molt-positiu-de-la-ballada-anual-de-gitanes-de-la-llagosta-celebrada-ahir.html
CLASS:PUBLIC
END:VEVENT
END:VCALENDAR
