BEGIN:VCALENDAR
VERSION:2.0
CALSCALE:GREGORIAN
PRODID:-//Diputació de Barcelona//DibaCMS//EN
BEGIN:VEVENT
UID:4974
DTSTAMP:20260422T204316
DTSTART:20120420T000000
DTEND:20130420T000000
SUMMARY:L'Oficina Local de Català fa un concurs literari amb motiu de Sant Jordi
LOCATION:
METHOD:PUBLISH
X-WR-CALNAME:llagosta@llagosta.cat
X-WR-TIMEZONE:Europe/Madrid
DESCRIPTION:L'Oficina de Català de la Llagosta organitza amb motiu de Sant Jordi un exercici-concurs literari de relats breus entre els alumnes dels cursos de Suficiència 1. Ara, s'inicia un procés de votació per escollir els millors escrits. Les votacions es poden fer a través d'aquest web fins a la mitjanit de diumenge i estan obertes a tota la població. 
URI:https://www.llagosta.cat/actualitat/noticies/loficina-local-de-catala-fa-un-concurs-literari-amb-motiu-de-sant-jordi.html
CLASS:PUBLIC
END:VEVENT
END:VCALENDAR
