BEGIN:VCALENDAR
VERSION:2.0
CALSCALE:GREGORIAN
PRODID:-//Diputació de Barcelona//DibaCMS//EN
BEGIN:VEVENT
UID:4973
DTSTAMP:20260422T155354
DTSTART:20120420T000000
DTEND:20130420T000000
SUMMARY:La Coral Miranda organitza la setena edició de la Jornades de música i cant coral
LOCATION:
METHOD:PUBLISH
X-WR-CALNAME:llagosta@llagosta.cat
X-WR-TIMEZONE:Europe/Madrid
DESCRIPTION:Diumenge, començaran les setenes Jornades de música i cant coral que organitza la Coral Miranda de la Llagosta. Com cada any, se celebraran dos concerts amb la participació de formacions d'arreu de Catalunya.
URI:https://www.llagosta.cat/actualitat/noticies/la-coral-miranda-organitza-la-setena-edicio-de-la-jornades-de-musica-i-cant-coral.html
CLASS:PUBLIC
END:VEVENT
END:VCALENDAR
