BEGIN:VCALENDAR
VERSION:2.0
CALSCALE:GREGORIAN
PRODID:-//Diputació de Barcelona//DibaCMS//EN
BEGIN:VEVENT
UID:4972
DTSTAMP:20260422T180557
DTSTART:20120420T000000
DTEND:20130420T000000
SUMMARY:Demà, nou intercanvi cultural de la Casa de Andalucía al Centre Cultural
LOCATION:
METHOD:PUBLISH
X-WR-CALNAME:llagosta@llagosta.cat
X-WR-TIMEZONE:Europe/Madrid
DESCRIPTION:El Centre Cultural acollirà demà un nou intercanvi cultural organitzat per la Casa de Andalucía de la Llagosta. L'acte començarà a les vuit del vespre. La Casa de Andalucía comptarà en aquesta ocasió amb la participació del Centro Cultural Andaluz de Ciutat Badia i la Casa Estepa del Sur de Barcelona. 
URI:https://www.llagosta.cat/actualitat/noticies/dema-nou-intercanvi-cultural-de-la-casa-de-andalucia-al-centre-cultural.html
CLASS:PUBLIC
END:VEVENT
END:VCALENDAR
