BEGIN:VCALENDAR
VERSION:2.0
CALSCALE:GREGORIAN
PRODID:-//Diputació de Barcelona//DibaCMS//EN
BEGIN:VEVENT
UID:4971
DTSTAMP:20260422T225614
DTSTART:20120420T000000
DTEND:20130420T000000
SUMMARY:La guarderia municipal Cucutras farà dilluns una jornada de portes obertes
LOCATION:
METHOD:PUBLISH
X-WR-CALNAME:llagosta@llagosta.cat
X-WR-TIMEZONE:Europe/Madrid
DESCRIPTION:L'Escola Bressol Municipal Cucutras farà dilluns la jornada de portes obertes. Hi haurà dues visites guiades, a les deu del matí i a dos quarts de quatre de la tarda. La jornada de portes obertes està adreçada a aquelles famílies que volen matricular els seus fills el proper curs a l'Escola Bressol Municipal Cucutras. 
URI:https://www.llagosta.cat/actualitat/noticies/la-guarderia-municipal-cucutras-fara-dilluns-una-jornada-de-portes-obertes.html
CLASS:PUBLIC
END:VEVENT
END:VCALENDAR
