BEGIN:VCALENDAR
VERSION:2.0
CALSCALE:GREGORIAN
PRODID:-//Diputació de Barcelona//DibaCMS//EN
BEGIN:VEVENT
UID:4970
DTSTAMP:20260422T184541
DTSTART:20120420T000000
DTEND:20130420T000000
SUMMARY:El gegant la Torradeta assistirà demà al Fabulari de l'Hospitalet de Llobregat
LOCATION:
METHOD:PUBLISH
X-WR-CALNAME:llagosta@llagosta.cat
X-WR-TIMEZONE:Europe/Madrid
DESCRIPTION:Un dels gegants de la nostra localitat, la llagosta Torradeta participarà demà dissabte en el Fabulari de l'Hospitalet de Llobregat, una mostra de bestiari de colles de diables i gegants en el marc de les Festes de primavera d'aquesta població. És la primera vegada que la Colla gegantera de la Llagosta assistirà a aquesta activitat, que començarà a les cinc de la tarda. 
URI:https://www.llagosta.cat/actualitat/noticies/el-gegant-la-torradeta-assistira-dema-al-fabulari-de-lhospitalet-de-llobregat.html
CLASS:PUBLIC
END:VEVENT
END:VCALENDAR
