BEGIN:VCALENDAR
VERSION:2.0
CALSCALE:GREGORIAN
PRODID:-//Diputació de Barcelona//DibaCMS//EN
BEGIN:VEVENT
UID:4969
DTSTAMP:20260422T074421
DTSTART:20120420T000000
DTEND:20130420T000000
SUMMARY:Diumenge, se celebrarà la 36a Ballada de Gitanes de la Llagosta
LOCATION:
METHOD:PUBLISH
X-WR-CALNAME:llagosta@llagosta.cat
X-WR-TIMEZONE:Europe/Madrid
DESCRIPTION:El Grup de Ball de Gitanes de la Llagosta organitzarà diumenge la 36a edició de la Ballada de Gitanes de la nostra localitat. L'acte tindrà lloc a la rambla de l'avinguda de l'Onze de setembre a partir d'un quart de dotze del migdia. 
URI:https://www.llagosta.cat/actualitat/noticies/diumenge-se-celebrara-la-36a-ballada-de-gitanes-de-la-llagosta.html
CLASS:PUBLIC
END:VEVENT
END:VCALENDAR
