BEGIN:VCALENDAR
VERSION:2.0
CALSCALE:GREGORIAN
PRODID:-//Diputació de Barcelona//DibaCMS//EN
BEGIN:VEVENT
UID:4968
DTSTAMP:20260422T151345
DTSTART:20120420T000000
DTEND:20130420T000000
SUMMARY:El Fútbol Sala Unión Llagostense es juga la cinquena posició a la pista del Sansur
LOCATION:
METHOD:PUBLISH
X-WR-CALNAME:llagosta@llagosta.cat
X-WR-TIMEZONE:Europe/Madrid
DESCRIPTION:El Fútbol Sala Unión Llagostense, que és sisè amb 43 punts després de perdre per 1 a 2 contra el Futsal Tiana, jugarà aquest cap de setmana a la pista del Sansur, que és el cinquè classificat amb 44 punts. Aquest partit correspon a la penúltima jornada de lliga.
URI:https://www.llagosta.cat/actualitat/noticies/el-futbol-sala-union-llagostense-es-juga-la-cinquena-posicio-a-la-pista-del-sansur.html
CLASS:PUBLIC
END:VEVENT
END:VCALENDAR
