BEGIN:VCALENDAR
VERSION:2.0
CALSCALE:GREGORIAN
PRODID:-//Diputació de Barcelona//DibaCMS//EN
BEGIN:VEVENT
UID:4967
DTSTAMP:20260422T223552
DTSTART:20120419T000000
DTEND:20130419T000000
SUMMARY:La Plataforma d'Afectats per la Hipoteca recollirà firmes a favor de la dació en pagament
LOCATION:
METHOD:PUBLISH
X-WR-CALNAME:llagosta@llagosta.cat
X-WR-TIMEZONE:Europe/Madrid
DESCRIPTION:La Plataforma d'Afectats per la Hipoteca de la Llagosta començarà dilluns a recollir signatures dins del marc de la Iniciativa Legislativa Popular per demanar la dació en el pagament de la hipoteca. Aquesta acció, que es porta a terme a tot Espanya, vol recollir 500.000 signatures per tal que al Congrés dels Diputats s'estableixin mesures de protecció a famílies que no puguin fer front als crèdits hipotecaris del seu habitatge habitual.
URI:https://www.llagosta.cat/actualitat/noticies/la-plataforma-dafectats-per-la-hipoteca-recollira-firmes-a-favor-de-la-dacio-en-pagament.html
CLASS:PUBLIC
END:VEVENT
END:VCALENDAR
