BEGIN:VCALENDAR
VERSION:2.0
CALSCALE:GREGORIAN
PRODID:-//Diputació de Barcelona//DibaCMS//EN
BEGIN:VEVENT
UID:4965
DTSTAMP:20260422T074040
DTSTART:20120419T000000
DTEND:20130419T000000
SUMMARY:Renovat el conveni entre l'Ajuntament i l'Agrupación de Jubilados y Pensionistas
LOCATION:
METHOD:PUBLISH
X-WR-CALNAME:llagosta@llagosta.cat
X-WR-TIMEZONE:Europe/Madrid
DESCRIPTION:L'alcalde de la Llagosta, Alberto López, i el president de l'Agrupación de Jubilados y Pensionistas de la nostra localitat, José Fajardo, van renovar ahir el conveni de col·laboració entre l'Ajuntament i l'entitat. La principal novetat d'aquest acord anual és l'augment de la subvenció que el Consistori destinarà a les activitats que organitza l'Agrupación. 
URI:https://www.llagosta.cat/actualitat/noticies/renovat-el-conveni-entre-lajuntament-i-lagrupacion-de-jubilados-y-pensionistas.html
CLASS:PUBLIC
END:VEVENT
END:VCALENDAR
