BEGIN:VCALENDAR
VERSION:2.0
CALSCALE:GREGORIAN
PRODID:-//Diputació de Barcelona//DibaCMS//EN
BEGIN:VEVENT
UID:4964
DTSTAMP:20260422T110833
DTSTART:20120419T000000
DTEND:20130409T000000
SUMMARY:Demà, darrers actes per commemorar el 81è aniversari de la Segona República
LOCATION:
METHOD:PUBLISH
X-WR-CALNAME:llagosta@llagosta.cat
X-WR-TIMEZONE:Europe/Madrid
DESCRIPTION:Els actes per commemorar el 81è aniversari de la proclamació de la Segona República organitzats per Iniciativa per Catalunya Verds, Esquerra Unida i Alternativa i el Casal Popular la República de la Llagosta finalitzaran demà. 
URI:https://www.llagosta.cat/actualitat/noticies/dema-darrers-actes-per-commemorar-el-81e-aniversari-de-la-segona-republica.html
CLASS:PUBLIC
END:VEVENT
END:VCALENDAR
