BEGIN:VCALENDAR
VERSION:2.0
CALSCALE:GREGORIAN
PRODID:-//Diputació de Barcelona//DibaCMS//EN
BEGIN:VEVENT
UID:4963
DTSTAMP:20260423T014919
DTSTART:20120419T000000
DTEND:20130419T000000
SUMMARY:Obert el període d'inscripció per participar en el 29è Concurs de Cante Jondo
LOCATION:
METHOD:PUBLISH
X-WR-CALNAME:llagosta@llagosta.cat
X-WR-TIMEZONE:Europe/Madrid
DESCRIPTION:La Casa de Andalucía de la Llagosta ha iniciat el període d'inscripció per participar en l'edició número 29 del Concurs de Cante Jondo Ciutat de la Llagosta. El certamen està dedicat a Enrique Morente. En principi, estava previst dedicar-li l'edició passada del Concurs de Cante, però finalment no va ser possible.
URI:https://www.llagosta.cat/actualitat/noticies/obert-el-periode-dinscripcio-per-participar-en-el-29e-concurs-de-cante-jondo.html
CLASS:PUBLIC
END:VEVENT
END:VCALENDAR
