BEGIN:VCALENDAR
VERSION:2.0
CALSCALE:GREGORIAN
PRODID:-//Diputació de Barcelona//DibaCMS//EN
BEGIN:VEVENT
UID:4962
DTSTAMP:20260423T013903
DTSTART:20120418T000000
DTEND:20130418T000000
SUMMARY:Animalets obre les inscripcions per participar en un nou curs sobre jardineria
LOCATION:
METHOD:PUBLISH
X-WR-CALNAME:llagosta@llagosta.cat
X-WR-TIMEZONE:Europe/Madrid
DESCRIPTION:L'Associació Protectora d'Animals i Plantes de la Llagosta, Animalets, organitzarà a partir del 27 d'abril un nou curs sobre jardineria. Les inscripcions estaran obertes fins cobrir les 20 places.
URI:https://www.llagosta.cat/actualitat/noticies/animalets-obre-les-inscripcions-per-participar-en-un-nou-curs-sobre-jardineria.html
CLASS:PUBLIC
END:VEVENT
END:VCALENDAR
