BEGIN:VCALENDAR
VERSION:2.0
CALSCALE:GREGORIAN
PRODID:-//Diputació de Barcelona//DibaCMS//EN
BEGIN:VEVENT
UID:4961
DTSTAMP:20260422T165856
DTSTART:20120418T000000
DTEND:20130418T000000
SUMMARY:Una trentena d'associacions assisteixen a la reunió sobre la primera Mostra d'Entitats
LOCATION:
METHOD:PUBLISH
X-WR-CALNAME:llagosta@llagosta.cat
X-WR-TIMEZONE:Europe/Madrid
DESCRIPTION:L'Ajuntament ha fet un balanç positiu de la reunió preparatòria de la que serà la primera Mostra d'Entitats de la nostra localitat celebrada ahir al Centre Cultural. L'acte es farà el 30 de juny al Parc Popular.
URI:https://www.llagosta.cat/actualitat/noticies/una-trentena-dassociacions-assisteixen-a-la-reunio-sobre-la-primera-mostra-dentitats.html
CLASS:PUBLIC
END:VEVENT
END:VCALENDAR
