BEGIN:VCALENDAR
VERSION:2.0
CALSCALE:GREGORIAN
PRODID:-//Diputació de Barcelona//DibaCMS//EN
BEGIN:VEVENT
UID:4960
DTSTAMP:20260423T133745
DTSTART:20120418T000000
DTEND:20130418T000000
SUMMARY:L'Ajuntament obre un expedient sancionador a una empresa per un abocament de residus
LOCATION:
METHOD:PUBLISH
X-WR-CALNAME:llagosta@llagosta.cat
X-WR-TIMEZONE:Europe/Madrid
DESCRIPTION:L'Ajuntament de la Llagosta obrirà un expedient sancionador per una infracció greu de les ordenances municipals a una empresa de Montornès del Vallès que va realitzar dissabte un abocament il·legal de residus a la zona de Can Pere Gil. La Policia Local també ha posat els fets en coneixement dels Agents Rurals del Departament de Medi Ambient de la Generalitat, que ara avalua la possible existència d'un delicte ecològic.
URI:https://www.llagosta.cat/actualitat/noticies/lajuntament-obre-un-expedient-sancionador-a-una-empresa-per-un-abocament-de-residus.html
CLASS:PUBLIC
END:VEVENT
END:VCALENDAR
