BEGIN:VCALENDAR
VERSION:2.0
CALSCALE:GREGORIAN
PRODID:-//Diputació de Barcelona//DibaCMS//EN
BEGIN:VEVENT
UID:4959
DTSTAMP:20260422T132402
DTSTART:20120418T000000
DTEND:20130418T000000
SUMMARY:Els dos equips de futbol sala femení del CD La Concòrdia van guanyar el cap de setmana
LOCATION:
METHOD:PUBLISH
X-WR-CALNAME:llagosta@llagosta.cat
X-WR-TIMEZONE:Europe/Madrid
DESCRIPTION:El primer equip del Club Deportivo La Concòrdia va guanyar el cap de setmana passat per un clar 1 a 12 a la pista del cuer, el Futsal Mataró, que és el cuer. Les de la nostra localitat no van tenir cap problema per derrotar un conjunt molt fluix. 
URI:https://www.llagosta.cat/actualitat/noticies/els-dos-equips-de-futbol-sala-femeni-del-cd-la-concordia-van-guanyar-el-cap-de-setmana.html
CLASS:PUBLIC
END:VEVENT
END:VCALENDAR
