BEGIN:VCALENDAR
VERSION:2.0
CALSCALE:GREGORIAN
PRODID:-//Diputació de Barcelona//DibaCMS//EN
BEGIN:VEVENT
UID:4958
DTSTAMP:20260422T231011
DTSTART:20120417T000000
DTEND:20130417T000000
SUMMARY:El FS Unión Llagostense cau a casa (1-2) contra el segon classificat, el Futsal Tiana
LOCATION:
METHOD:PUBLISH
X-WR-CALNAME:llagosta@llagosta.cat
X-WR-TIMEZONE:Europe/Madrid
DESCRIPTION:El Fútbol Sala Unión Llagostense va perdre el cap de setmana passat per 1 a 2 contra el segon classificat, el Futsal Tiana. Els visitants van arribar al descans amb un marcador favorable de 0 a 2. A la segona part, David Martín va reduir les diferències. Els llagostencs van disposar d'altres ocasions per marcar, però no les van aprofitar.
URI:https://www.llagosta.cat/actualitat/noticies/el-fs-union-llagostense-cau-a-casa-1-2-contra-el-segon-classificat-el-futsal-tiana.html
CLASS:PUBLIC
END:VEVENT
END:VCALENDAR
