BEGIN:VCALENDAR
VERSION:2.0
CALSCALE:GREGORIAN
PRODID:-//Diputació de Barcelona//DibaCMS//EN
BEGIN:VEVENT
UID:4957
DTSTAMP:20260422T164334
DTSTART:20120417T000000
DTEND:20130417T000000
SUMMARY:Demà, quarta passejada per a la gent gran a la localitat de Berga
LOCATION:
METHOD:PUBLISH
X-WR-CALNAME:llagosta@llagosta.cat
X-WR-TIMEZONE:Europe/Madrid
DESCRIPTION:Demà, es farà la quarta de les passejades per a la gent gran d'aquesta temporada, dins del cicle Esport per a tothom, organitzat per la Diputació de Barcelona i diversos ajuntaments, entre ells el de la Llagosta. La sortida serà a Berga.
URI:https://www.llagosta.cat/actualitat/noticies/dema-quarta-passejada-per-a-la-gent-gran-a-la-localitat-de-berga.html
CLASS:PUBLIC
END:VEVENT
END:VCALENDAR
