BEGIN:VCALENDAR
VERSION:2.0
CALSCALE:GREGORIAN
PRODID:-//Diputació de Barcelona//DibaCMS//EN
BEGIN:VEVENT
UID:4956
DTSTAMP:20260422T155021
DTSTART:20120417T000000
DTEND:20130417T000000
SUMMARY:El Club Deportivo Viejas Glorias derrota el Sant Quirze i suma la quarta victòria seguida
LOCATION:
METHOD:PUBLISH
X-WR-CALNAME:llagosta@llagosta.cat
X-WR-TIMEZONE:Europe/Madrid
DESCRIPTION:El Club Deportivo Viejas Glorias va vèncer el cap de setmana passat el Sant Quirze per 1 a 0. Els de la nostra localitat sumen un nova victòria que els permet pujar un lloc a la taula.
URI:https://www.llagosta.cat/actualitat/noticies/el-club-deportivo-viejas-glorias-derrota-el-sant-quirze-i-suma-la-quarta-victoria-seguida.html
CLASS:PUBLIC
END:VEVENT
END:VCALENDAR
