BEGIN:VCALENDAR
VERSION:2.0
CALSCALE:GREGORIAN
PRODID:-//Diputació de Barcelona//DibaCMS//EN
BEGIN:VEVENT
UID:4955
DTSTAMP:20260422T223839
DTSTART:20120417T000000
DTEND:20130417T000000
SUMMARY:Reunió amb el Ministeri de Foment sobre la futura estació intermodal de la Llagosta
LOCATION:
METHOD:PUBLISH
X-WR-CALNAME:llagosta@llagosta.cat
X-WR-TIMEZONE:Europe/Madrid
DESCRIPTION:L'Ajuntament de la Llagosta ha demanat al Ministeri de Foment que la futura estació intermodal de la nostra localitat sigui la principal via d'exportació ferroviària a Europa de les empreses del Vallès i l'entorn de Barcelona. L'alcalde, Alberto López; el regidor de Territori, Jordi Alonso, i el d'Indústria, Adelino Macías, es van reunir divendres amb responsables del Ministeri de Foment per tractar sobre la construcció de l'estació ferroviària intermodal i el desenvolupament de l'àrea d'activitats econòmiques de Can Pere Gil. 
URI:https://www.llagosta.cat/actualitat/noticies/reunio-amb-el-ministeri-de-foment-sobre-la-futura-estacio-intermodal-de-la-llagosta.html
CLASS:PUBLIC
END:VEVENT
END:VCALENDAR
