BEGIN:VCALENDAR
VERSION:2.0
CALSCALE:GREGORIAN
PRODID:-//Diputació de Barcelona//DibaCMS//EN
BEGIN:VEVENT
UID:4954
DTSTAMP:20260422T160133
DTSTART:20120416T000000
DTEND:20130416T000000
SUMMARY:L'Ajuntament convoca demà una reunió per preparar una mostra d'entitats
LOCATION:
METHOD:PUBLISH
X-WR-CALNAME:llagosta@llagosta.cat
X-WR-TIMEZONE:Europe/Madrid
DESCRIPTION:L'Ajuntament de la Llagosta vol organitzar la que serà la primera Mostra d'Entitats de la nostra localitat. Per preparar aquesta activitat, s'ha convocat a totes les entitats de la nostra localitat a una reunió demà, a les sis de la tarda, al Centre Cultural.
URI:https://www.llagosta.cat/actualitat/noticies/lajuntament-convoca-dema-una-reunio-per-preparar-una-mostra-dentitats.html
CLASS:PUBLIC
END:VEVENT
END:VCALENDAR
