BEGIN:VCALENDAR
VERSION:2.0
CALSCALE:GREGORIAN
PRODID:-//Diputació de Barcelona//DibaCMS//EN
BEGIN:VEVENT
UID:4953
DTSTAMP:20260422T160206
DTSTART:20120416T000000
DTEND:20130416T000000
SUMMARY:Els responsables d'Alborada, molt satisfets amb la festa del vintè aniversari de l'entitat
LOCATION:
METHOD:PUBLISH
X-WR-CALNAME:llagosta@llagosta.cat
X-WR-TIMEZONE:Europe/Madrid
DESCRIPTION:L'Agrupación Cultural Galega Alborada de la Llagosta ha fet un balanç positiu de la festa del seu vintè aniversari, que va celebrar dissabte amb diversos actes. 
Més de 200 persones van assistir al dinar de germanor previst al Centre Cultural. 
URI:https://www.llagosta.cat/actualitat/noticies/els-responsables-dalborada-molt-satisfets-amb-la-festa-del-vinte-aniversari-de-lentitat.html
CLASS:PUBLIC
END:VEVENT
END:VCALENDAR
