BEGIN:VCALENDAR
VERSION:2.0
CALSCALE:GREGORIAN
PRODID:-//Diputació de Barcelona//DibaCMS//EN
BEGIN:VEVENT
UID:4952
DTSTAMP:20260422T223725
DTSTART:20120416T000000
DTEND:20130416T000000
SUMMARY:L'Aplec de la sardana de la Llagosta va registrar ahir una participació molt alta
LOCATION:
METHOD:PUBLISH
X-WR-CALNAME:llagosta@llagosta.cat
X-WR-TIMEZONE:Europe/Madrid
DESCRIPTION:L'Agrupació Sardanista de la Llagosta ha destacat el gran nombre de persones que van assistir ahir a l'edició número 21 de l'Aplec de la sardana de la nostra localitat. Des de l'entitat, assenyalen que ha estat una de les ocasions amb més participants.
URI:https://www.llagosta.cat/actualitat/noticies/laplec-de-la-sardana-de-la-llagosta-va-registrar-ahir-una-participacio-molt-alta.html
CLASS:PUBLIC
END:VEVENT
END:VCALENDAR
