BEGIN:VCALENDAR
VERSION:2.0
CALSCALE:GREGORIAN
PRODID:-//Diputació de Barcelona//DibaCMS//EN
BEGIN:VEVENT
UID:4951
DTSTAMP:20260423T035438
DTSTART:20120416T000000
DTEND:20130416T000000
SUMMARY:El veí de Cerdanyola Juan Manuel Gago guanya el 19è Concurs de fotografia Dia de la Dona
LOCATION:
METHOD:PUBLISH
X-WR-CALNAME:llagosta@llagosta.cat
X-WR-TIMEZONE:Europe/Madrid
DESCRIPTION:Juan Manuel Gago, de Cerdanyola, ha estat el guanyador del 19è Concurs de fotografia del Dia Internacional de la Dona, organitzat pel Foto-Club la Llagosta amb la col·laboració de l'Ajuntament. El veredicte del jurat i el lliurament de premis es va fer divendres al vespre al Centre Cultural.
URI:https://www.llagosta.cat/actualitat/noticies/el-vei-de-cerdanyola-juan-manuel-gago-guanya-el-19e-concurs-de-fotografia-dia-de-la-dona.html
CLASS:PUBLIC
END:VEVENT
END:VCALENDAR
