BEGIN:VCALENDAR
VERSION:2.0
CALSCALE:GREGORIAN
PRODID:-//Diputació de Barcelona//DibaCMS//EN
BEGIN:VEVENT
UID:4950
DTSTAMP:20260422T223506
DTSTART:20120413T000000
DTEND:20130413T000000
SUMMARY:ICV, EUiA i el Casal Popular la República commemoren el 81è aniversari de la Segona República
LOCATION:
METHOD:PUBLISH
X-WR-CALNAME:llagosta@llagosta.cat
X-WR-TIMEZONE:Europe/Madrid
DESCRIPTION:Demà, es commemora el 81è aniversari de la proclamació de la Segona República. Iniciativa per Catalunya Verds, Esquerra Unida i Alternativa i el Casal Popular la República de la Llagosta organitzen tot un seguit d'actes per recordar l'efemèride. 
URI:https://www.llagosta.cat/actualitat/noticies/icv-euia-i-el-casal-popular-la-republica-commemoren-el-81e-aniversari-de-la-segona-republica.html
CLASS:PUBLIC
END:VEVENT
END:VCALENDAR
