BEGIN:VCALENDAR
VERSION:2.0
CALSCALE:GREGORIAN
PRODID:-//Diputació de Barcelona//DibaCMS//EN
BEGIN:VEVENT
UID:4949
DTSTAMP:20260423T013928
DTSTART:20120413T000000
DTEND:20130413T000000
SUMMARY:Demà, l'Agrupación Cultural Galega Alborada celebrarà el seu vintè aniversari
LOCATION:
METHOD:PUBLISH
X-WR-CALNAME:llagosta@llagosta.cat
X-WR-TIMEZONE:Europe/Madrid
DESCRIPTION:L'Agrupación Cultural Galega Alborada de la Llagosta celebrarà demà el seu vintè aniversari. L'entitat ha preparat diverses activitats, tant per als seus socis com per a la resta de la població.
URI:https://www.llagosta.cat/actualitat/noticies/dema-lagrupacion-cultural-galega-alborada-celebrara-el-seu-vinte-aniversari.html
CLASS:PUBLIC
END:VEVENT
END:VCALENDAR
