BEGIN:VCALENDAR
VERSION:2.0
CALSCALE:GREGORIAN
PRODID:-//Diputació de Barcelona//DibaCMS//EN
BEGIN:VEVENT
UID:4948
DTSTAMP:20260422T221509
DTSTART:20120413T000000
DTEND:20130413T000000
SUMMARY:El Grup de Ball de Gitanes de la Llagosta actuarà demà a la Trobada de Martorelles
LOCATION:
METHOD:PUBLISH
X-WR-CALNAME:llagosta@llagosta.cat
X-WR-TIMEZONE:Europe/Madrid
DESCRIPTION:El Grup de Ball de Gitanes de la Llagosta participarà demà en la Trobada de Martorelles. Els balls tindran lloc a partir de dos quarts de sis de la tarda a Can Carrancà.
URI:https://www.llagosta.cat/actualitat/noticies/el-grup-de-ball-de-gitanes-de-la-llagosta-actuara-dema-a-la-trobada-de-martorelles.html
CLASS:PUBLIC
END:VEVENT
END:VCALENDAR
