BEGIN:VCALENDAR
VERSION:2.0
CALSCALE:GREGORIAN
PRODID:-//Diputació de Barcelona//DibaCMS//EN
BEGIN:VEVENT
UID:4947
DTSTAMP:20260422T131321
DTSTART:20120413T000000
DTEND:20130413T000000
SUMMARY:L'Agrupació Sardanista de la Llagosta organitzarà diumenge el 21è Aplec 
LOCATION:
METHOD:PUBLISH
X-WR-CALNAME:llagosta@llagosta.cat
X-WR-TIMEZONE:Europe/Madrid
DESCRIPTION:El Parc Popular acollirà diumenge el 21è Aplec de la Llagosta, organitzat per l'Agrupació Sardanista. L'acte s'iniciarà a les quatre de la tarda. L'Aplec de la Llagosta comptarà amb les cobles Sant Jordi Ciutat de Barcelona, Jovenívola de Sabadell i Ciutat de Girona. 
URI:https://www.llagosta.cat/actualitat/noticies/lagrupacio-sardanista-de-la-llagosta-organitzara-diumenge-el-21e-aplec-.html
CLASS:PUBLIC
END:VEVENT
END:VCALENDAR
