BEGIN:VCALENDAR
VERSION:2.0
CALSCALE:GREGORIAN
PRODID:-//Diputació de Barcelona//DibaCMS//EN
BEGIN:VEVENT
UID:4946
DTSTAMP:20260423T145321
DTSTART:20120412T000000
DTEND:20130402T000000
SUMMARY:El Banc de Sang va aconseguir 68 donacions sanguínies dijous a la Llagosta
LOCATION:
METHOD:PUBLISH
X-WR-CALNAME:llagosta@llagosta.cat
X-WR-TIMEZONE:Europe/Madrid
DESCRIPTION:Un total de 68 persones van donar sang la setmana passada durant la visita del Banc de Sang a la Llagosta. Deu persones s'hi van apropar, però no van poder donar-ne i set ho van fer per primera vegada.
URI:https://www.llagosta.cat/actualitat/noticies/el-banc-de-sang-va-aconseguir-68-donacions-sanguinies-dijous-a-la-llagosta.html
CLASS:PUBLIC
END:VEVENT
END:VCALENDAR
