BEGIN:VCALENDAR
VERSION:2.0
CALSCALE:GREGORIAN
PRODID:-//Diputació de Barcelona//DibaCMS//EN
BEGIN:VEVENT
UID:4945
DTSTAMP:20260422T014031
DTSTART:20120412T000000
DTEND:20130412T000000
SUMMARY:Demà, veredicte del Concurs de fotografia del Dia Internacional de la Dona
LOCATION:
METHOD:PUBLISH
X-WR-CALNAME:llagosta@llagosta.cat
X-WR-TIMEZONE:Europe/Madrid
DESCRIPTION:El Centre Cultural acollirà demà el veredicte i el lliurament de premis del Concurs de fotografia del Dia Internacional de la Dona, organitzat pel Foto-Club la Llagosta amb la col·laboració de l'Ajuntament de la nostra localitat. L'acte es farà a les set de la tarda.
URI:https://www.llagosta.cat/actualitat/noticies/dema-veredicte-del-concurs-de-fotografia-del-dia-internacional-de-la-dona.html
CLASS:PUBLIC
END:VEVENT
END:VCALENDAR
