BEGIN:VCALENDAR
VERSION:2.0
CALSCALE:GREGORIAN
PRODID:-//Diputació de Barcelona//DibaCMS//EN
BEGIN:VEVENT
UID:4944
DTSTAMP:20260422T090643
DTSTART:20120412T000000
DTEND:20130412T000000
SUMMARY:El sènior de l'Handbol Club Vallag rebrà dissabte la visita del cuer, el Claret
LOCATION:
METHOD:PUBLISH
X-WR-CALNAME:llagosta@llagosta.cat
X-WR-TIMEZONE:Europe/Madrid
DESCRIPTION:El sènior de l'Handbol Club Vallag finalitzarà la primera volta de la fase d'ascens rebent el Claret. Els de la nostra localitat intentaran aconseguir una victòria important per continuar el seu camí cap a la Segona Catalana.
URI:https://www.llagosta.cat/actualitat/noticies/el-senior-de-lhandbol-club-vallag-rebra-dissabte-la-visita-del-cuer-el-claret.html
CLASS:PUBLIC
END:VEVENT
END:VCALENDAR
