BEGIN:VCALENDAR
VERSION:2.0
CALSCALE:GREGORIAN
PRODID:-//Diputació de Barcelona//DibaCMS//EN
BEGIN:VEVENT
UID:4943
DTSTAMP:20260423T053836
DTSTART:20120412T000000
DTEND:20130412T000000
SUMMARY:La selecció d'handbol, amb Antonio García, es classifica per als Jocs Olímpics Londres
LOCATION:
METHOD:PUBLISH
X-WR-CALNAME:llagosta@llagosta.cat
X-WR-TIMEZONE:Europe/Madrid
DESCRIPTION:La selecció espanyola absoluta d'handbol, amb el llagostenc Antonio García Robledo a les seves files, s'ha classificat per a les properes Olimpíades de Londres. Espanya va guanyar els tres partits del torneig preolímpic, que es va disputar el cap de setmana passat a Alacant.
URI:https://www.llagosta.cat/actualitat/noticies/la-seleccio-dhandbol-amb-antonio-garcia-es-classifica-per-als-jocs-olimpics-londres.html
CLASS:PUBLIC
END:VEVENT
END:VCALENDAR
