BEGIN:VCALENDAR
VERSION:2.0
CALSCALE:GREGORIAN
PRODID:-//Diputació de Barcelona//DibaCMS//EN
BEGIN:VEVENT
UID:4942
DTSTAMP:20260422T111638
DTSTART:20120412T000000
DTEND:20130412T000000
SUMMARY:Aprovat de forma definitiva el plec per adjudicar la recollida d'escombraries i la neteja viària
LOCATION:
METHOD:PUBLISH
X-WR-CALNAME:llagosta@llagosta.cat
X-WR-TIMEZONE:Europe/Madrid
DESCRIPTION:L'Ajuntament de la Llagosta va aprovar ahir de forma definitiva el plec de clàusules per adjudicar el servei de recollida d'escombraries i la neteja viària del nostre municipi, durant la celebració d'un ple extraordinari. El punt va comptar amb el vot a favor dels grups de l'equip de govern, Iniciativa-Esquerra Unida, Convergència i Unió i Ciutadans Progressistes per la Llagosta; en contra del Partit dels Socialistes i amb l'abstenció del Partit Popular. 
URI:https://www.llagosta.cat/actualitat/noticies/aprovat-de-forma-definitiva-el-plec-per-adjudicar-la-recollida-descombraries-i-la-neteja-viaria.html
CLASS:PUBLIC
END:VEVENT
END:VCALENDAR
