BEGIN:VCALENDAR
VERSION:2.0
CALSCALE:GREGORIAN
PRODID:-//Diputació de Barcelona//DibaCMS//EN
BEGIN:VEVENT
UID:4941
DTSTAMP:20260422T092351
DTSTART:20120411T000000
DTEND:20130411T000000
SUMMARY:El Centre Cultural de la Llagosta acollirà a partir de demà una nova exposició
LOCATION:
METHOD:PUBLISH
X-WR-CALNAME:llagosta@llagosta.cat
X-WR-TIMEZONE:Europe/Madrid
DESCRIPTION:Demà dijous, s'inaugurarà al Centre Cultural l'exposició Caram! 35 obres per la fibromiàlgia i la síndrome de fatiga crònica. L'acte es farà a les vuit del vespre. L'alumnat dels cursos de català per a adults de la Llagosta ha col·laborat en aquest projecte elaborant diversos textos a partir d'allò que els suggerien les imatges de l’exposició, realitzades per l’Estudi d’Art Jordi Aligué i Anna Bellvehí i els seus alumnes.
URI:https://www.llagosta.cat/actualitat/noticies/el-centre-cultural-de-la-llagosta-acollira-a-partir-de-dema-una-nova-exposicio.html
CLASS:PUBLIC
END:VEVENT
END:VCALENDAR
