BEGIN:VCALENDAR
VERSION:2.0
CALSCALE:GREGORIAN
PRODID:-//Diputació de Barcelona//DibaCMS//EN
BEGIN:VEVENT
UID:4940
DTSTAMP:20260422T160423
DTSTART:20120411T000000
DTEND:20130411T000000
SUMMARY:El Consistori de la Llagosta presenta al·legacions al desdoblament de la línia R-3
LOCATION:
METHOD:PUBLISH
X-WR-CALNAME:llagosta@llagosta.cat
X-WR-TIMEZONE:Europe/Madrid
DESCRIPTION:Els ajuntaments de la Llagosta, Santa Perpètua i Ripollet han presentat al·legacions al projecte de desdoblament de la línia ferroviària Barcelona-Vic (R-3). Els tres consistoris plantegen el desviament del traçat i la connexió d'aquesta línia amb la R-8, que enllaça Granollers amb Martorell.
URI:https://www.llagosta.cat/actualitat/noticies/el-consistori-de-la-llagosta-presenta-allegacions-al-desdoblament-de-la-linia-r-3.html
CLASS:PUBLIC
END:VEVENT
END:VCALENDAR
