BEGIN:VCALENDAR
VERSION:2.0
CALSCALE:GREGORIAN
PRODID:-//Diputació de Barcelona//DibaCMS//EN
BEGIN:VEVENT
UID:4939
DTSTAMP:20260422T090732
DTSTART:20120411T000000
DTEND:20130411T000000
SUMMARY:L'Ajuntament de la Llagosta celebrarà avui un ple extraordinari a partir de les set de la tarda
LOCATION:
METHOD:PUBLISH
X-WR-CALNAME:llagosta@llagosta.cat
X-WR-TIMEZONE:Europe/Madrid
DESCRIPTION:L'Ajuntament de la Llagosta celebrarà avui, a partir de les set de la tarda, un ple extraordinari durant el qual s'aprovarà definitivament el plec de clàusules per adjudicar el servei de recollida d'escombraries i la neteja viària del nostre municipi. 
URI:https://www.llagosta.cat/actualitat/noticies/lajuntament-de-la-llagosta-celebrara-avui-un-ple-extraordinari-a-partir-de-les-set-de-la-tarda.html
CLASS:PUBLIC
END:VEVENT
END:VCALENDAR
