BEGIN:VCALENDAR
VERSION:2.0
CALSCALE:GREGORIAN
PRODID:-//Diputació de Barcelona//DibaCMS//EN
BEGIN:VEVENT
UID:4938
DTSTAMP:20260422T223533
DTSTART:20120411T000000
DTEND:20130411T000000
SUMMARY:El Fútbol Sala Unión Llagostense rep la visita del segon classificat, el Futsal Tiana
LOCATION:
METHOD:PUBLISH
X-WR-CALNAME:llagosta@llagosta.cat
X-WR-TIMEZONE:Europe/Madrid
DESCRIPTION:El Fútbol Sala Unión Llagostense jugarà el proper cap de setmana a casa contra el Futsal Tiana. El conjunt llagostenc, que ve de perdre a la pista del líder, el Ripoll, per un ajustat 3 a 2, és sisè amb 43 punts. Per la seva part, el Futsal Tiana és el segon classificat amb 57 punts i la jornada passada va empatar a tres contra la Garriga. 
URI:https://www.llagosta.cat/actualitat/noticies/el-futbol-sala-union-llagostense-rep-la-visita-del-segon-classificat-el-futsal-tiana.html
CLASS:PUBLIC
END:VEVENT
END:VCALENDAR
