BEGIN:VCALENDAR
VERSION:2.0
CALSCALE:GREGORIAN
PRODID:-//Diputació de Barcelona//DibaCMS//EN
BEGIN:VEVENT
UID:4937
DTSTAMP:20260422T055222
DTSTART:20120411T000000
DTEND:20130411T000000
SUMMARY:El Viejas Glorias, que ocupa la sisena posició, jugarà dissabte a casa contra el Sant Quirze
LOCATION:
METHOD:PUBLISH
X-WR-CALNAME:llagosta@llagosta.cat
X-WR-TIMEZONE:Europe/Madrid
DESCRIPTION:El Club Deportivo Viejas Glorias rebrà dissabte a partir de les quatre de la tarda la visita del Sant Quirze després de la jornada de descans de Setmana Santa. El conjunt llagostenc es troba en un bon moment i en el darrer partit va guanyar per 1 a 6 Los Cuesta. 
URI:https://www.llagosta.cat/actualitat/noticies/el-viejas-glorias-que-ocupa-la-sisena-posicio-jugara-dissabte-a-casa-contra-el-sant-quirze.html
CLASS:PUBLIC
END:VEVENT
END:VCALENDAR
