BEGIN:VCALENDAR
VERSION:2.0
CALSCALE:GREGORIAN
PRODID:-//Diputació de Barcelona//DibaCMS//EN
BEGIN:VEVENT
UID:4936
DTSTAMP:20260422T104711
DTSTART:20120410T000000
DTEND:20130410T000000
SUMMARY:Mor de forma sobtada Francisco Jiménez, expresident de la Peña Bética de la Llagosta
LOCATION:
METHOD:PUBLISH
X-WR-CALNAME:llagosta@llagosta.cat
X-WR-TIMEZONE:Europe/Madrid
DESCRIPTION:Aquest matí ha mort de forma sobtada Francisco Jiménez, que havia estat president de la Peña Bética de la Llagosta. Jiménez havia estat vinculat a altres entitats locals, com ara la Casa de Andalucía i la Lliga de Dominó. Francisco Jiménez era pare de Conchi Jiménez, exregidora del Partit dels Socialistes, i sogre de l'exalcalde Antonio Rísquez.
URI:https://www.llagosta.cat/actualitat/noticies/mor-de-forma-sobtada-francisco-jimenez-expresident-de-la-pena-betica-de-la-llagosta.html
CLASS:PUBLIC
END:VEVENT
END:VCALENDAR
