BEGIN:VCALENDAR
VERSION:2.0
CALSCALE:GREGORIAN
PRODID:-//Diputació de Barcelona//DibaCMS//EN
BEGIN:VEVENT
UID:4935
DTSTAMP:20260423T005143
DTSTART:20120410T000000
DTEND:20130410T000000
SUMMARY:L'Ajuntament instal·la una nova Zona d'Activitat Esportiva al costat de la plaça d'Europa
LOCATION:
METHOD:PUBLISH
X-WR-CALNAME:llagosta@llagosta.cat
X-WR-TIMEZONE:Europe/Madrid
DESCRIPTION:L'Ajuntament de la Llagosta ha instal·lat una nova Zona d'Activitat Esportiva al costat de la plaça d'Europa. Aquesta és la quarta instal·lació d'aparells per fer exercici de la nostra localitat.
URI:https://www.llagosta.cat/actualitat/noticies/lajuntament-installa-una-nova-zona-dactivitat-esportiva-al-costat-de-la-placa-deuropa.html
CLASS:PUBLIC
END:VEVENT
END:VCALENDAR
