BEGIN:VCALENDAR
VERSION:2.0
CALSCALE:GREGORIAN
PRODID:-//Diputació de Barcelona//DibaCMS//EN
BEGIN:VEVENT
UID:4934
DTSTAMP:20260423T072952
DTSTART:20120410T000000
DTEND:20130410T000000
SUMMARY:La Llagosta + Activa organitza una gimcana amb motiu de la Diada de Sant Jordi
LOCATION:
METHOD:PUBLISH
X-WR-CALNAME:llagosta@llagosta.cat
X-WR-TIMEZONE:Europe/Madrid
DESCRIPTION:El grup La Llagosta + Activa ha posat en marxa avui la gimcana de Sant Jordi. L'activitat està oberta a tots els infants i joves de la nostra localitat. Els participants en aquesta gimcana han de completar un mosaic sobre la llegenda de Sant Jordi. 
URI:https://www.llagosta.cat/actualitat/noticies/la-llagosta--activa-organitza-una-gimcana-amb-motiu-de-la-diada-de-sant-jordi.html
CLASS:PUBLIC
END:VEVENT
END:VCALENDAR
