BEGIN:VCALENDAR
VERSION:2.0
CALSCALE:GREGORIAN
PRODID:-//Diputació de Barcelona//DibaCMS//EN
BEGIN:VEVENT
UID:4933
DTSTAMP:20260422T190304
DTSTART:20120410T000000
DTEND:20130410T000000
SUMMARY:Els dos conjunts del Club Deportivo La Concòrdia tornen a la competició la propera jornada
LOCATION:
METHOD:PUBLISH
X-WR-CALNAME:llagosta@llagosta.cat
X-WR-TIMEZONE:Europe/Madrid
DESCRIPTION:Els dos equips de futbol sala femení del Club Deportivo La Concòrdia tornaran a la competició el proper cap de setmana després de dues jornades de descans. La Concòrdia A jugarà dissabte a la pista del Futsal Mataró.
URI:https://www.llagosta.cat/actualitat/noticies/els-dos-conjunts-del-club-deportivo-la-concordia-tornen-a-la-competicio-la-propera-jornada.html
CLASS:PUBLIC
END:VEVENT
END:VCALENDAR
