BEGIN:VCALENDAR
VERSION:2.0
CALSCALE:GREGORIAN
PRODID:-//Diputació de Barcelona//DibaCMS//EN
BEGIN:VEVENT
UID:4932
DTSTAMP:20260422T140653
DTSTART:20120410T000000
DTEND:20130410T000000
SUMMARY:Obert el període d'inscripcions per a una passejada a Berga per a la gent gran
LOCATION:
METHOD:PUBLISH
X-WR-CALNAME:llagosta@llagosta.cat
X-WR-TIMEZONE:Europe/Madrid
DESCRIPTION:L'Ajuntament de la Llagosta ha obert les inscripcions per participar a la quarta de les passejades per a la gent gran d'aquesta temporada. La sortida es farà el dimecres 18 d'abril a Berga.
URI:https://www.llagosta.cat/actualitat/noticies/obert-el-periode-dinscripcions-per-a-una-passejada-a-berga-per-a-la-gent-gran.html
CLASS:PUBLIC
END:VEVENT
END:VCALENDAR
