BEGIN:VCALENDAR
VERSION:2.0
CALSCALE:GREGORIAN
PRODID:-//Diputació de Barcelona//DibaCMS//EN
BEGIN:VEVENT
UID:4931
DTSTAMP:20260422T091623
DTSTART:20120405T000000
DTEND:20130405T000000
SUMMARY:El llagostenc Iván Buendía es classifica per al Campionat d'Espanya sub-21 de judo
LOCATION:
METHOD:PUBLISH
X-WR-CALNAME:llagosta@llagosta.cat
X-WR-TIMEZONE:Europe/Madrid
DESCRIPTION:El judoka del Gimnàs La Llagosta Iván Buendía s'ha classificat per al Campionat d'Espanya sub-21 després de ser tercer en la Fase sector de Llevant, que es va disputar el cap de setmana passat a Alacant. Buendía, que és l'actual subcampió de Catalunya, va competir en menys de 73 quilos.
URI:https://www.llagosta.cat/actualitat/noticies/el-llagostenc-ivan-buendia-es-classifica-per-al-campionat-despanya-sub-21-de-judo.html
CLASS:PUBLIC
END:VEVENT
END:VCALENDAR
