BEGIN:VCALENDAR
VERSION:2.0
CALSCALE:GREGORIAN
PRODID:-//Diputació de Barcelona//DibaCMS//EN
BEGIN:VEVENT
UID:4930
DTSTAMP:20260421T235839
DTSTART:20120405T000000
DTEND:20130405T000000
SUMMARY:El Club Deportivo Viejas Glorias continua en ratxa i goleja Los Cuesta (1-6)
LOCATION:
METHOD:PUBLISH
X-WR-CALNAME:llagosta@llagosta.cat
X-WR-TIMEZONE:Europe/Madrid
DESCRIPTION:El Club Deportivo Viejas Glorias va guanyar la jornada passada per 1 a 6 al camp de Los Cuesta. Els llagostencs no van tenir cap problema per derrotar un equip situat a la zona baixa de la classificació i continuar amb la seva bona ratxa de resultats. 
URI:https://www.llagosta.cat/actualitat/noticies/el-club-deportivo-viejas-glorias-continua-en-ratxa-i-goleja-los-cuesta-1-6.html
CLASS:PUBLIC
END:VEVENT
END:VCALENDAR
