BEGIN:VCALENDAR
VERSION:2.0
CALSCALE:GREGORIAN
PRODID:-//Diputació de Barcelona//DibaCMS//EN
BEGIN:VEVENT
UID:4929
DTSTAMP:20260423T111201
DTSTART:20120405T000000
DTEND:20130405T000000
SUMMARY:Dissabte, se celebra la festa del desè aniversari de la pau a Angola al Centre Cultural
LOCATION:
METHOD:PUBLISH
X-WR-CALNAME:llagosta@llagosta.cat
X-WR-TIMEZONE:Europe/Madrid
DESCRIPTION:La Llagosta acollirà dissabte la festa del desè aniversari de la pau a Angola. L'acte, que començarà a les quatre de la tarda, està organitzat per l'Asociación sociocultural de angoleños en Catalunya, Maboque. 
URI:https://www.llagosta.cat/actualitat/noticies/dissabte-se-celebra-la-festa-del-dese-aniversari-de-la-pau-a-angola-al-centre-cultural.html
CLASS:PUBLIC
END:VEVENT
END:VCALENDAR
