BEGIN:VCALENDAR
VERSION:2.0
CALSCALE:GREGORIAN
PRODID:-//Diputació de Barcelona//DibaCMS//EN
BEGIN:VEVENT
UID:4928
DTSTAMP:20260422T111349
DTSTART:20120405T000000
DTEND:20130405T000000
SUMMARY:Antonio García disputa aquest cap de setmana amb Espanya el torneig preolímpic 
LOCATION:
METHOD:PUBLISH
X-WR-CALNAME:llagosta@llagosta.cat
X-WR-TIMEZONE:Europe/Madrid
DESCRIPTION:L'esportista llagostenc Antonio García Robledo disputarà entre demà i diumenge el torneig preolímpic amb la selecció espanyola absoluta d'handbol a Alacant. García ha estat convocat novament per Valero Rivera després que quedés fora de la selecció que va jugar el Campionat d'Europa.
URI:https://www.llagosta.cat/actualitat/noticies/antonio-garcia-disputa-aquest-cap-de-setmana-amb-espanya-el-torneig-preolimpic-.html
CLASS:PUBLIC
END:VEVENT
END:VCALENDAR
